BEGIN:VCALENDAR
PRODID:-//AT Content Types//AT Event//EN
VERSION:2.0
METHOD:PUBLISH
BEGIN:VEVENT
DTSTAMP:20260424T230923Z
CREATED:20240712T023421Z
UID:ATEvent-021a70e44aad4ca9a3ba36600c520d02
LAST-MODIFIED:20241010T010516Z
SUMMARY:Webinar
DTSTART:20240912T020000Z
DTEND:20240912T030000Z
DESCRIPTION:Webinar will be held to provide an overview of the consult
 ation and opportunity for stakeholders to ask questions on the consult
 ation. Further information on this webinar and a registration link wil
 l be circulated via an email shortly.
CLASS:PUBLIC
END:VEVENT
END:VCALENDAR
