BEGIN:VCALENDAR
PRODID:-//AT Content Types//AT Event//EN
VERSION:2.0
METHOD:PUBLISH
BEGIN:VEVENT
DTSTAMP:20260425T002249Z
CREATED:20240712T023421Z
UID:ATEvent-e1de1cd116354793b1dbb225e7e0945a
LAST-MODIFIED:20241010T010516Z
SUMMARY:Webinar
DTSTART:20240911T070000Z
DTEND:20240911T080000Z
DESCRIPTION:Webinar will be held to provide an overview of the consult
 ation and opportunity for stakeholders to ask questions on the consult
 ation. Further information on this webinar and a registration link wil
 l be circulated via an email shortly.
CLASS:PUBLIC
END:VEVENT
END:VCALENDAR
