BEGIN:VCALENDAR
PRODID:-//AT Content Types//AT Event//EN
VERSION:2.0
METHOD:PUBLISH
BEGIN:VEVENT
DTSTAMP:20260421T161231Z
CREATED:20240913T024948Z
UID:ATEvent-0bd2b1fb6eb346aeb289eae9464a0de2
LAST-MODIFIED:20250207T033911Z
SUMMARY:Webinar registrations open - TGA AI review - Clarifying and strengthening the regulation of AI
DTSTART:20241001T030000Z
DTEND:20241001T050000Z
DESCRIPTION:This webinar will provide an overview of the consultation 
 paper and an opportunity for stakeholders to ask questions.\n\nTo regi
 ster\, please copy the following link into your browser: https://event
 s.teams.microsoft.com/event/67af7a9f-3dc4-435b-9a64-dc3a7ae96185@34a39
 29c-73cf-4954-abfe-147dc3517892
CLASS:PUBLIC
END:VEVENT
END:VCALENDAR
