BEGIN:VCALENDAR
PRODID:-//AT Content Types//AT Event//EN
VERSION:2.0
METHOD:PUBLISH
BEGIN:VEVENT
DTSTAMP:20260421T161232Z
CREATED:20240913T024736Z
UID:ATEvent-7cc5298eaf414d00b08c91a650c3d5c6
LAST-MODIFIED:20250207T033911Z
SUMMARY:Webinar registrations open - TGA AI review - Clarifying and strengthening the regulation of AI
DTSTART:20240925T233000Z
DTEND:20240926T013000Z
DESCRIPTION:This webinar will provide an overview of the consultation 
 paper and an opportunity for stakeholders to ask questions.\n\nTo regi
 ster\, please copy the following link into your browser: \nhttps://eve
 nts.teams.microsoft.com/event/1c1989dd-5225-4653-ae85-a09539e7e570@34a
 3929c-73cf-4954-abfe-147dc3517892
CLASS:PUBLIC
END:VEVENT
END:VCALENDAR
