BEGIN:VCALENDAR
PRODID:-//AT Content Types//AT Event//EN
VERSION:2.0
METHOD:PUBLISH
BEGIN:VEVENT
DTSTAMP:20260424T191647Z
CREATED:20201006T220708Z
UID:ATEvent-52bb10c9e6a644f9a228142a6a4d695f
LAST-MODIFIED:20231218T032127Z
SUMMARY:Webinar -1 Proposed enhancement to adverse event reporting for medical devices: Industry
DTSTART:20201019T000000Z
DTEND:20201019T003000Z
DESCRIPTION:This webinar aims to provide targeted information to spons
 ors\, manufacturers and distributors of medical devices about the prop
 osed enhancements to adverse event reporting.\nThe focus of this webin
 ar will be on proposal 1\, 2\, 4\, and 5.
CLASS:PUBLIC
END:VEVENT
END:VCALENDAR
