BEGIN:VCALENDAR
PRODID:-//AT Content Types//AT Event//EN
VERSION:2.0
METHOD:PUBLISH
BEGIN:VEVENT
DTSTAMP:20260424T191647Z
CREATED:20201006T220707Z
UID:ATEvent-85e8c64ea75642dfa67e1321a733d4cd
LAST-MODIFIED:20231218T032127Z
SUMMARY:Webinar -2 Proposed enhancement to adverse event reporting for medical devices: Consumers
DTSTART:20201026T030000Z
DTEND:20201026T033000Z
DESCRIPTION:This webinar aims to provide targeted information to consu
 mers of medical devices about the proposed enhancements to adverse eve
 nt reporting. \nThe focus of this webinar will be on proposal 1\, 2\, 
 4\, and 5.
CLASS:PUBLIC
END:VEVENT
END:VCALENDAR
