BEGIN:VCALENDAR
PRODID:-//AT Content Types//AT Event//EN
VERSION:2.0
METHOD:PUBLISH
BEGIN:VEVENT
DTSTAMP:20260424T191647Z
CREATED:20201006T220707Z
UID:ATEvent-00c86929210a414d806d52589195bad8
LAST-MODIFIED:20231218T032127Z
SUMMARY:Webinar -3  Proposed enhancement to adverse event reporting for medical devices: Industry and Consumers
DTSTART:20201102T030000Z
DTEND:20201102T033000Z
DESCRIPTION:This webinar aims to provide information about a proposal 
 to introduce a new program whereby the TGA would actively inspect and/
 or audit medical device sponsors’ systems for how they identify\, re
 port and manage their post market reporting obligations.
CLASS:PUBLIC
END:VEVENT
END:VCALENDAR
